BEGIN:VCALENDAR
VERSION:2.0
PRODID:-//Stewarton Heather - ECPv4.9.11//NONSGML v1.0//EN
CALSCALE:GREGORIAN
METHOD:PUBLISH
X-WR-CALNAME:Stewarton Heather
X-ORIGINAL-URL:https://stewartonheather.com
X-WR-CALDESC:Events for Stewarton Heather
BEGIN:VTIMEZONE
TZID:Europe/London
BEGIN:DAYLIGHT
TZOFFSETFROM:+0000
TZOFFSETTO:+0100
TZNAME:BST
DTSTART:20210328T010000
END:DAYLIGHT
BEGIN:STANDARD
TZOFFSETFROM:+0100
TZOFFSETTO:+0000
TZNAME:GMT
DTSTART:20211031T010000
END:STANDARD
END:VTIMEZONE
BEGIN:VEVENT
DTSTART;TZID=Europe/London:20210926T180000
DTEND;TZID=Europe/London:20210926T203000
DTSTAMP:20260425T120150
CREATED:20210906T214400Z
LAST-MODIFIED:20210906T214400Z
UID:7619-1632679200-1632688200@stewartonheather.com
SUMMARY:Wm. Howie Cup 2019 / 20 - Match Day 13
DESCRIPTION:The culmination of the 2019 / 20 season. Eight rinks finally conclude the COVID interrupted season before the new 2021 / 22 season gets underway. \nWho will still be in the mix for the final promotion / relegation spots? \n
URL:https://stewartonheather.com/event/wm-howie-cup-2019-20-match-day-13/
LOCATION:Greenacres Curling Club\, PA9 1DE\, United Kingdom
ORGANIZER;CN="Stewarton%20Heather%20Curling%20Club":MAILTO:secretary@stewartonheather.com
END:VEVENT
END:VCALENDAR