BEGIN:VCALENDAR
VERSION:2.0
PRODID:-//Stewarton Heather - ECPv4.9.11//NONSGML v1.0//EN
CALSCALE:GREGORIAN
METHOD:PUBLISH
X-WR-CALNAME:Stewarton Heather
X-ORIGINAL-URL:https://stewartonheather.com
X-WR-CALDESC:Events for Stewarton Heather
BEGIN:VTIMEZONE
TZID:Europe/London
BEGIN:DAYLIGHT
TZOFFSETFROM:+0000
TZOFFSETTO:+0100
TZNAME:BST
DTSTART:20190331T010000
END:DAYLIGHT
BEGIN:STANDARD
TZOFFSETFROM:+0100
TZOFFSETTO:+0000
TZNAME:GMT
DTSTART:20191027T010000
END:STANDARD
END:VTIMEZONE
BEGIN:VEVENT
DTSTART;TZID=Europe/London:20190108T170000
DTEND;TZID=Europe/London:20190108T223000
DTSTAMP:20260425T014348
CREATED:20181024T211621Z
LAST-MODIFIED:20181024T211621Z
UID:6683-1546966800-1546986600@stewartonheather.com
SUMMARY:Province Medal
DESCRIPTION:Ayrshire Province Medal – The best combined score of the two rinks from each club will decide the winner of the Province Medal. Played over two sessions\, this is always a good social event. \n
URL:https://stewartonheather.com/event/province-medal/
LOCATION:Ayr Ice Rink\, Limekilns Road\, Ayr\, South Ayrshire\, KA8 8DG\, United Kingdom
END:VEVENT
END:VCALENDAR