BEGIN:VCALENDAR
VERSION:2.0
PRODID:-//Stewarton Heather - ECPv4.9.11//NONSGML v1.0//EN
CALSCALE:GREGORIAN
METHOD:PUBLISH
X-WR-CALNAME:Stewarton Heather
X-ORIGINAL-URL:https://stewartonheather.com
X-WR-CALDESC:Events for Stewarton Heather
BEGIN:VTIMEZONE
TZID:Europe/London
BEGIN:DAYLIGHT
TZOFFSETFROM:+0000
TZOFFSETTO:+0100
TZNAME:BST
DTSTART:20180325T010000
END:DAYLIGHT
BEGIN:STANDARD
TZOFFSETFROM:+0100
TZOFFSETTO:+0000
TZNAME:GMT
DTSTART:20181028T010000
END:STANDARD
END:VTIMEZONE
BEGIN:VEVENT
DTSTART;TZID=Europe/London:20181029T201500
DTEND;TZID=Europe/London:20181029T230000
DTSTAMP:20260424T172942
CREATED:20181018T222754Z
LAST-MODIFIED:20181018T222754Z
UID:6589-1540844100-1540854000@stewartonheather.com
SUMMARY:Points / Handicap Points
DESCRIPTION:The chance for club members to prove themselves as the best all round player in the club and carry off the Corsehill Cup. \nFor the average club members\, there is still a chance to win the Tom Reid Handicap Trophy. \nPlease arrive by 8:15pm for the draw. \n
URL:https://stewartonheather.com/event/points-handicap-points/
LOCATION:Greenacres Curling Club\, PA9 1DE\, United Kingdom
ATTACH;FMTTYPE=image/jpeg:https://stewartonheather.com/wp-content/uploads/2018/01/DGP_SHthr175_281.jpg
ORGANIZER;CN="Stewarton%20Heather%20Curling%20Club":MAILTO:secretary@stewartonheather.com
END:VEVENT
END:VCALENDAR