BEGIN:VCALENDAR
VERSION:2.0
PRODID:-//Stewarton Heather - ECPv4.9.11//NONSGML v1.0//EN
CALSCALE:GREGORIAN
METHOD:PUBLISH
X-WR-CALNAME:Stewarton Heather
X-ORIGINAL-URL:https://stewartonheather.com
X-WR-CALDESC:Events for Stewarton Heather
BEGIN:VTIMEZONE
TZID:Europe/London
BEGIN:DAYLIGHT
TZOFFSETFROM:+0000
TZOFFSETTO:+0100
TZNAME:BST
DTSTART:20190331T010000
END:DAYLIGHT
BEGIN:STANDARD
TZOFFSETFROM:+0100
TZOFFSETTO:+0000
TZNAME:GMT
DTSTART:20191027T010000
END:STANDARD
END:VTIMEZONE
BEGIN:VEVENT
DTSTART;TZID=Europe/London:20190203T173000
DTEND;TZID=Europe/London:20190203T203000
DTSTAMP:20260425T035200
CREATED:20181024T203720Z
LAST-MODIFIED:20181024T213236Z
UID:6692-1549215000-1549225800@stewartonheather.com
SUMMARY:Howie 2018/19 - Match Day 7
DESCRIPTION:Douglas Reid v Craig Reid\, Tom Reid v Peter Barrett\, David Mundell v Hugh Reid\, David Reid v Gavin Reid\, James Whiteford v Robert Wilson \n  \n
URL:https://stewartonheather.com/event/howie-2018-19-match-day-7/
LOCATION:Greenacres Curling Club\, PA9 1DE\, United Kingdom
ATTACH;FMTTYPE=image/jpeg:https://stewartonheather.com/wp-content/uploads/2018/10/P4029860.jpg
ORGANIZER;CN="Stewarton%20Heather%20Curling%20Club":MAILTO:secretary@stewartonheather.com
END:VEVENT
END:VCALENDAR