BEGIN:VCALENDAR
VERSION:2.0
PRODID:-//Stewarton Heather - ECPv4.9.11//NONSGML v1.0//EN
CALSCALE:GREGORIAN
METHOD:PUBLISH
X-WR-CALNAME:Stewarton Heather
X-ORIGINAL-URL:https://stewartonheather.com
X-WR-CALDESC:Events for Stewarton Heather
BEGIN:VTIMEZONE
TZID:Europe/London
BEGIN:DAYLIGHT
TZOFFSETFROM:+0000
TZOFFSETTO:+0100
TZNAME:BST
DTSTART:20180325T010000
END:DAYLIGHT
BEGIN:STANDARD
TZOFFSETFROM:+0100
TZOFFSETTO:+0000
TZNAME:GMT
DTSTART:20181028T010000
END:STANDARD
END:VTIMEZONE
BEGIN:VEVENT
DTSTART;TZID=Europe/London:20181030T170000
DTEND;TZID=Europe/London:20181030T203000
DTSTAMP:20260424T173057
CREATED:20181018T223733Z
LAST-MODIFIED:20181018T223733Z
UID:6591-1540918800-1540931400@stewartonheather.com
SUMMARY:Finnie Kettle
DESCRIPTION:A Presidents Select will take part in the annual competition that pits teams from either side of the River Irvine against each other.  The best rink from the winning side will win the Kettle. \n
URL:https://stewartonheather.com/event/finnie-kettle/
LOCATION:Ayr Ice Rink\, Limekilns Road\, Ayr\, South Ayrshire\, KA8 8DG\, United Kingdom
ATTACH;FMTTYPE=image/jpeg:https://stewartonheather.com/wp-content/uploads/2017/12/DGP_SHthr175_211.jpg
END:VEVENT
END:VCALENDAR