BEGIN:VCALENDAR
VERSION:2.0
PRODID:-//Stewarton Heather - ECPv4.9.11//NONSGML v1.0//EN
CALSCALE:GREGORIAN
METHOD:PUBLISH
X-WR-CALNAME:Stewarton Heather
X-ORIGINAL-URL:https://stewartonheather.com
X-WR-CALDESC:Events for Stewarton Heather
BEGIN:VTIMEZONE
TZID:Europe/London
BEGIN:DAYLIGHT
TZOFFSETFROM:+0000
TZOFFSETTO:+0100
TZNAME:BST
DTSTART:20210328T010000
END:DAYLIGHT
BEGIN:STANDARD
TZOFFSETFROM:+0100
TZOFFSETTO:+0000
TZNAME:GMT
DTSTART:20211031T010000
END:STANDARD
END:VTIMEZONE
BEGIN:VEVENT
DTSTART;VALUE=DATE:20211219
DTEND;VALUE=DATE:20211220
DTSTAMP:20260425T134013
CREATED:20220117T074017Z
LAST-MODIFIED:20220117T074017Z
UID:7719-1639872000-1639958399@stewartonheather.com
SUMMARY:Cuthbertson League 2021 Final Table
DESCRIPTION: \n  \n
URL:https://stewartonheather.com/event/cuthbertson-league-2021-final-table/
LOCATION:Greenacres Curling Club\, PA9 1DE\, United Kingdom
END:VEVENT
END:VCALENDAR