BEGIN:VCALENDAR
VERSION:2.0
PRODID:-//Stewarton Heather - ECPv4.9.11//NONSGML v1.0//EN
CALSCALE:GREGORIAN
METHOD:PUBLISH
X-WR-CALNAME:Stewarton Heather
X-ORIGINAL-URL:https://stewartonheather.com
X-WR-CALDESC:Events for Stewarton Heather
BEGIN:VTIMEZONE
TZID:Europe/London
BEGIN:DAYLIGHT
TZOFFSETFROM:+0000
TZOFFSETTO:+0100
TZNAME:BST
DTSTART:20180325T010000
END:DAYLIGHT
BEGIN:STANDARD
TZOFFSETFROM:+0100
TZOFFSETTO:+0000
TZNAME:GMT
DTSTART:20181028T010000
END:STANDARD
END:VTIMEZONE
BEGIN:VEVENT
DTSTART;TZID=Europe/London:20181118T173000
DTEND;TZID=Europe/London:20181118T200000
DTSTAMP:20260424T215810
CREATED:20181018T220503Z
LAST-MODIFIED:20181018T220503Z
UID:6578-1542562200-1542571200@stewartonheather.com
SUMMARY:Cuthbertson 2018/19 - Match Day 9
DESCRIPTION:\n\n\n1\nMalcolm Noble\nv\nDavid Mundell\n\n\n2\nPeter Barrett\nv\nTom Smith\n\n\n3\nHugh Reid\nv\nJohn Craig\n\n\n4\nTom Reid\nv\nStuart Smith\n\n\n\n
URL:https://stewartonheather.com/event/cuthbertson-2018-19-match-day-9/
LOCATION:Greenacres Curling Club\, PA9 1DE\, United Kingdom
ATTACH;FMTTYPE=image/jpeg:https://stewartonheather.com/wp-content/uploads/2018/08/DGP_SHthr175_142.jpg
END:VEVENT
END:VCALENDAR