BEGIN:VCALENDAR
VERSION:2.0
PRODID:-//Stewarton Heather - ECPv4.9.11//NONSGML v1.0//EN
CALSCALE:GREGORIAN
METHOD:PUBLISH
X-WR-CALNAME:Stewarton Heather
X-ORIGINAL-URL:https://stewartonheather.com
X-WR-CALDESC:Events for Stewarton Heather
BEGIN:VTIMEZONE
TZID:Europe/London
BEGIN:DAYLIGHT
TZOFFSETFROM:+0000
TZOFFSETTO:+0100
TZNAME:BST
DTSTART:20180325T010000
END:DAYLIGHT
BEGIN:STANDARD
TZOFFSETFROM:+0100
TZOFFSETTO:+0000
TZNAME:GMT
DTSTART:20181028T010000
END:STANDARD
END:VTIMEZONE
BEGIN:VEVENT
DTSTART;TZID=Europe/London:20181216T173000
DTEND;TZID=Europe/London:20181216T203000
DTSTAMP:20260424T221552
CREATED:20181018T221639Z
LAST-MODIFIED:20181024T202046Z
UID:6586-1544981400-1544992200@stewartonheather.com
SUMMARY:Cuthbertson 2018/19 - Match Day 13
DESCRIPTION:The big finals night for the Cuthbertson 2018/19 League. The winners\, promotion and relegation spots may still be up for grabs. The teams battling it out tonight are: \n\n\n\n1\nDouglas Reid\nv\nStuart Smith\n\n\n2\nTommy Wilson\nv\nJohn Craig\n\n\n3\nJim Young\nv\nHugh Reid\n\n\n4\nTom Reid\nv\nTom Smith\n\n\n5\nPeter Barrett\nv\nDavid Mundell\n\n\n\nRaffle and Sandwiches after the games. \n
URL:https://stewartonheather.com/event/cuthbertson-2018-19-match-day-13/
LOCATION:Greenacres Curling Club\, PA9 1DE\, United Kingdom
ATTACH;FMTTYPE=image/jpeg:https://stewartonheather.com/wp-content/uploads/2018/09/DGP_SHthr175_120.jpg
ORGANIZER;CN="Stewarton%20Heather%20Curling%20Club":MAILTO:secretary@stewartonheather.com
END:VEVENT
END:VCALENDAR