BEGIN:VCALENDAR
VERSION:2.0
PRODID:-//Stewarton Heather - ECPv4.9.11//NONSGML v1.0//EN
CALSCALE:GREGORIAN
METHOD:PUBLISH
X-WR-CALNAME:Stewarton Heather
X-ORIGINAL-URL:https://stewartonheather.com
X-WR-CALDESC:Events for Stewarton Heather
BEGIN:VTIMEZONE
TZID:Europe/London
BEGIN:DAYLIGHT
TZOFFSETFROM:+0000
TZOFFSETTO:+0100
TZNAME:BST
DTSTART:20200329T010000
END:DAYLIGHT
BEGIN:STANDARD
TZOFFSETFROM:+0100
TZOFFSETTO:+0000
TZNAME:GMT
DTSTART:20201025T010000
END:STANDARD
END:VTIMEZONE
BEGIN:VEVENT
DTSTART;TZID=Europe/London:20200210T170000
DTEND;TZID=Europe/London:20200210T200000
DTSTAMP:20260425T102519
CREATED:20190729T214158Z
LAST-MODIFIED:20190729T214158Z
UID:7402-1581354000-1581364800@stewartonheather.com
SUMMARY:Ayrshire Province Knockout
DESCRIPTION:Stewarton Heather take on Fairywell in the first round of the 2019/2020 Province Knockout. \n  \n
URL:https://stewartonheather.com/event/ayrshire-province-knockout/
LOCATION:Ayr Ice Rink\, Limekilns Road\, Ayr\, South Ayrshire\, KA8 8DG\, United Kingdom
END:VEVENT
END:VCALENDAR